BEGIN:VCALENDAR
VERSION:2.0
PRODID:-//eventon.com NONSGML v1.0//EN
CALSCALE:GREGORIAN
METHOD:PUBLISH
BEGIN:VEVENT
UID:69e6b391800f8
DTSTAMP:20260420T231529Z
DTSTART:20241015T230000Z
DTEND:20241015T230000Z
LOCATION:Galway\,  Ireland
SUMMARY:ONK Therapeutics | Sale 1 IRE
DESCRIPTION:Sale #1 of 2 &#8211; Complete Closure of NK Cell Therapy Lab Fe
 aturing Late Model Cell Therapy\,  Analytical\,  and Support Lab EquipmentÂ
   Beckman Coulter | Eppendorf | Thermo Fisher Scientific&#8230; &nbsp; &nbs
 p; &nbsp; Other Auction Info Phone:\nhttps://www.industrialbid.com/Auctions
 /onk-therapeutics-sale-1-ire-2/
URL:https://www.industrialbid.com/Auctions/onk-therapeutics-sale-1-ire-2/
END:VEVENT
END:VCALENDAR