BEGIN:VCALENDAR
VERSION:2.0
PRODID:-//eventon.com NONSGML v1.0//EN
CALSCALE:GREGORIAN
METHOD:PUBLISH
BEGIN:VEVENT
UID:69e7363f25727
DTSTAMP:20260421T083303Z
DTSTART:20241205T230000Z
DTEND:20241205T230000Z
LOCATION:141 Main Street\,  Sanborn 434 South Street\,  Tracy MN\,  United States
SUMMARY:Meat Processing Equipment Auction\,  Tracy & Sanborn\,  MN
DESCRIPTION:Grafe Auction presents an exceptional opportunity with a compre
 hensive Meat Processing Equipment Auction featuring lots across two locatio
 ns in Tracy and Sanborn\,  MN. This extensive collection represents a compl
 ete meat processing operation\,  including premium processing equipment\,  
 refrigeration systems\,  material handling equipment\,  and facility suppor
 t items. &nbsp; &nbsp; &nbsp; Other Auction[..]\nhttps://www.industrialbid.
 com/Auctions/meat-processing-equipment-auction-tracy-sanborn-mn/
URL:https://www.industrialbid.com/Auctions/meat-processing-equipment-auction-tracy-sanborn-mn/
END:VEVENT
END:VCALENDAR