BEGIN:VCALENDAR
VERSION:2.0
PRODID:-//eventon.com NONSGML v1.0//EN
CALSCALE:GREGORIAN
METHOD:PUBLISH
BEGIN:VEVENT
UID:69e98f23c2bbf
DTSTAMP:20260423T031651Z
DTSTART:20251111T230000Z
DTEND:20251111T230000Z
LOCATION:View Phoenix\,  AZ Details
SUMMARY:Phoenix medical and hospital equipment timed warehouse auction
DESCRIPTION:&nbsp; &nbsp;\nhttps://www.industrialbid.com/Auctions/phoenix-m
 edical-and-hospital-equipment-timed-warehouse-auction-6/
URL:https://www.industrialbid.com/Auctions/phoenix-medical-and-hospital-equipment-timed-warehouse-auction-6/
END:VEVENT
END:VCALENDAR