BEGIN:VCALENDAR
VERSION:2.0
PRODID:-//eventon.com NONSGML v1.0//EN
CALSCALE:GREGORIAN
METHOD:PUBLISH
BEGIN:VEVENT
UID:69e749013e32e
DTSTAMP:20260421T095305Z
DTSTART:20260401T230000Z
DTEND:20260401T230000Z
LOCATION:Shelby\,  North Carolina\,  Dunlap Street Cincinnati Ohio United States
SUMMARY:Solero Technologies - Phase 2
DESCRIPTION:Phase 2: High-Performance Automotive Components Mfgr\,  Injecti
 on Molding Machines\,  Aux Equip\,  Chuckers\,  Stamping Presses\,  Forging
  Press\,  Over 500 Lots &nbsp; &nbsp; &nbsp; Other Auction Info Phone: Buye
 rs Premium: Tax:\nhttps://www.industrialbid.com/Auctions/solero-technologie
 s-phase-2/
URL:https://www.industrialbid.com/Auctions/solero-technologies-phase-2/
END:VEVENT
END:VCALENDAR