BEGIN:VCALENDAR
VERSION:2.0
PRODID:-//eventon.com NONSGML v1.0//EN
CALSCALE:GREGORIAN
METHOD:PUBLISH
BEGIN:VEVENT
UID:69e9c8045913e
DTSTAMP:20260423T071932Z
DTSTART:20260505T230000Z
DTEND:20260505T230000Z
LOCATION:Inglewood (Caledon)\,  Ontario\,  Concord Ontario Canada
SUMMARY:Olar Mechanical - Surplus to the Ongoing Operations
DESCRIPTION:HVAC Contractor &#038; Fabrication Shop &nbsp; &nbsp; &nbsp; Ot
 her Auction Info Phone: Buyers Premium: Tax:\nhttps://www.industrialbid.com
 /Auctions/olar-mechanical-surplus-to-the-ongoing-operations/
URL:https://www.industrialbid.com/Auctions/olar-mechanical-surplus-to-the-ongoing-operations/
END:VEVENT
END:VCALENDAR