BEGIN:VCALENDAR
VERSION:2.0
PRODID:-//eventon.com NONSGML v1.0//EN
CALSCALE:GREGORIAN
METHOD:PUBLISH
BEGIN:VEVENT
UID:69e765e5db5b1
DTSTAMP:20260421T115621Z
DTSTART:20260106T000000Z
DTEND:20260106T000000Z
LOCATION:View Chicago\,  IL Details
SUMMARY:Chicago medical and hospital equipment timed warehouse auction
DESCRIPTION:&nbsp; &nbsp;\nhttps://www.industrialbid.com/Auctions/chicago-m
 edical-and-hospital-equipment-timed-warehouse-auction/
URL:https://www.industrialbid.com/Auctions/chicago-medical-and-hospital-equipment-timed-warehouse-auction/
END:VEVENT
END:VCALENDAR