BEGIN:VCALENDAR
VERSION:2.0
PRODID:-//eventon.com NONSGML v1.0//EN
CALSCALE:GREGORIAN
METHOD:PUBLISH
BEGIN:VEVENT
UID:69e9c73e3147d
DTSTAMP:20260423T071614Z
DTSTART:20260526T230000Z
DTEND:20260526T230000Z
LOCATION:Naples\,  Florida\,  Arthur Avenue Elk Grove Village Illinois United States
SUMMARY:Complete Plant Closure – Progress Rail Fuel Injection Manufacturing Facility
DESCRIPTION:&nbsp; &nbsp; &nbsp; Other Auction Info Phone: Buyers Premium: 
 Tax:\nhttps://www.industrialbid.com/Auctions/complete-plant-closure-progres
 s-rail-fuel-injection-manufacturing-facility/
URL:https://www.industrialbid.com/Auctions/complete-plant-closure-progress-rail-fuel-injection-manufacturing-facility/
END:VEVENT
END:VCALENDAR