BEGIN:VCALENDAR
VERSION:2.0
PRODID:-//eventon.com NONSGML v1.0//EN
CALSCALE:GREGORIAN
METHOD:PUBLISH
BEGIN:VEVENT
UID:69ec9966588cb
DTSTAMP:20260425T103726Z
DTSTART:20260504T230000Z
DTEND:20260504T230000Z
LOCATION:Sidney\,  Ohio\,  Grand Rapids Michigan United States
SUMMARY:Momentec Distribution Center Auction 2 (OH)
DESCRIPTION:&nbsp; &nbsp; &nbsp; Other Auction Info Phone: Buyers Premium: 
 Tax:\nhttps://www.industrialbid.com/Auctions/momentec-distribution-center-a
 uction-2-oh/
URL:https://www.industrialbid.com/Auctions/momentec-distribution-center-auction-2-oh/
END:VEVENT
END:VCALENDAR