BEGIN:VCALENDAR
VERSION:2.0
PRODID:-//eventon.com NONSGML v1.0//EN
CALSCALE:GREGORIAN
METHOD:PUBLISH
BEGIN:VEVENT
UID:69ec993d70d43
DTSTAMP:20260425T103645Z
DTSTART:20260414T230000Z
DTEND:20260414T230000Z
LOCATION:Multi-location\,  Concord Ontario Canada
SUMMARY:Balcan Innovations - Montreal & Toronto Facilities - Surplus to the Ongoing Operations
DESCRIPTION:Multi Million Dollar Offering of Flexible Packaging Equipment &
 nbsp; &nbsp; &nbsp; Other Auction Info Phone: Buyers Premium: Tax:\nhttps:/
 /www.industrialbid.com/Auctions/balcan-innovations-montreal-toronto-facilit
 ies-surplus-to-the-ongoing-operations/
URL:https://www.industrialbid.com/Auctions/balcan-innovations-montreal-toronto-facilities-surplus-to-the-ongoing-operations/
END:VEVENT
END:VCALENDAR