BEGIN:VCALENDAR
VERSION:2.0
PRODID:-//eventon.com NONSGML v1.0//EN
CALSCALE:GREGORIAN
METHOD:PUBLISH
BEGIN:VEVENT
UID:69e9c7cc1d892
DTSTAMP:20260423T071836Z
DTSTART:20260505T230000Z
DTEND:20260505T230000Z
LOCATION:Grovetown\,  Georgia\,  Grand Rapids Michigan United States
SUMMARY:Momentec Distribution Center Auction 1 (GA)
DESCRIPTION:&nbsp; &nbsp; &nbsp; Other Auction Info Phone: Buyers Premium: 
 Tax:\nhttps://www.industrialbid.com/Auctions/momentec-distribution-center-a
 uction-1-ga/
URL:https://www.industrialbid.com/Auctions/momentec-distribution-center-auction-1-ga/
END:VEVENT
END:VCALENDAR