BEGIN:VCALENDAR
VERSION:2.0
PRODID:-//eventon.com NONSGML v1.0//EN
CALSCALE:GREGORIAN
METHOD:PUBLISH
BEGIN:VEVENT
UID:69e732e774dde
DTSTAMP:20260421T081847Z
DTSTART:20260305T230000Z
DTEND:20260305T230000Z
LOCATION:Cleves\,  Ohio\,  Dunlap Street Cincinnati Ohio United States
SUMMARY:A-G Tool & Die
DESCRIPTION:Progressive &#038; Transfer Die Making Shop\,  Bridge Crane Sys
 tems\,  SSDC Presses\,  Servo Feed Line\,  CNC&#8217;s\,  Wire EDM&#8217;s\
 ,  Surface Grinders\,  Toolroom &#038; More &nbsp; &nbsp; &nbsp; Other Auct
 ion Info Phone: Buyers Premium: Tax:\nhttps://www.industrialbid.com/Auction
 s/a-g-tool-die/
URL:https://www.industrialbid.com/Auctions/a-g-tool-die/
END:VEVENT
END:VCALENDAR