BEGIN:VCALENDAR
VERSION:2.0
PRODID:-//eventon.com NONSGML v1.0//EN
CALSCALE:GREGORIAN
METHOD:PUBLISH
BEGIN:VEVENT
UID:69eb8c1b0c3e1
DTSTAMP:20260424T152827Z
DTSTART:20260407T000000Z
DTEND:20260407T000000Z
LOCATION:View Chicago\,  IL Details
SUMMARY:Chicago medical and hospital equipment timed warehouse auction
DESCRIPTION:&nbsp; &nbsp;\nhttps://www.industrialbid.com/Auctions/chicago-m
 edical-and-hospital-equipment-timed-warehouse-auction-6/
URL:https://www.industrialbid.com/Auctions/chicago-medical-and-hospital-equipment-timed-warehouse-auction-6/
END:VEVENT
END:VCALENDAR