BEGIN:VCALENDAR
VERSION:2.0
PRODID:-//eventon.com NONSGML v1.0//EN
CALSCALE:GREGORIAN
METHOD:PUBLISH
BEGIN:VEVENT
UID:69ec973a40b45
DTSTAMP:20260425T102810Z
DTSTART:20260512T000000Z
DTEND:20260512T000000Z
LOCATION:View Phoenix\,  AZ Details
SUMMARY:Phoenix medical and hospital equipment timed warehouse auction
DESCRIPTION:&nbsp; &nbsp;\nhttps://www.industrialbid.com/Auctions/phoenix-m
 edical-and-hospital-equipment-timed-warehouse-auction-8/
URL:https://www.industrialbid.com/Auctions/phoenix-medical-and-hospital-equipment-timed-warehouse-auction-8/
END:VEVENT
END:VCALENDAR