BEGIN:VCALENDAR
VERSION:2.0
PRODID:-//eventon.com NONSGML v1.0//EN
CALSCALE:GREGORIAN
METHOD:PUBLISH
BEGIN:VEVENT
UID:69e9cab63ea9b
DTSTAMP:20260423T073102Z
DTSTART:20260519T000000Z
DTEND:20260519T000000Z
LOCATION:View Dallas\,  TX Details
SUMMARY:Dallas medical and hospital equipment timed warehouse auction
DESCRIPTION:&nbsp; &nbsp;\nhttps://www.industrialbid.com/Auctions/dallas-me
 dical-and-hospital-equipment-timed-warehouse-auction-10/
URL:https://www.industrialbid.com/Auctions/dallas-medical-and-hospital-equipment-timed-warehouse-auction-10/
END:VEVENT
END:VCALENDAR