BEGIN:VCALENDAR
VERSION:2.0
PRODID:-//eventon.com NONSGML v1.0//EN
CALSCALE:GREGORIAN
METHOD:PUBLISH
BEGIN:VEVENT
UID:69e9cb2b8ca37
DTSTAMP:20260423T073259Z
DTSTART:20260526T000000Z
DTEND:20260526T000000Z
LOCATION:View Charlotte\,  NC Details
SUMMARY:Charlotte medical and hospital equipment timed warehouse auction
DESCRIPTION:&nbsp; &nbsp;\nhttps://www.industrialbid.com/Auctions/charlotte
 -medical-and-hospital-equipment-timed-warehouse-auction-6/
URL:https://www.industrialbid.com/Auctions/charlotte-medical-and-hospital-equipment-timed-warehouse-auction-6/
END:VEVENT
END:VCALENDAR