BEGIN:VCALENDAR
VERSION:2.0
PRODID:-//eventon.com NONSGML v1.0//EN
CALSCALE:GREGORIAN
METHOD:PUBLISH
BEGIN:VEVENT
UID:69e9c85716a50
DTSTAMP:20260423T072055Z
DTSTART:20260612T000000Z
DTEND:20260612T000000Z
LOCATION:View Fixed Asset Details
SUMMARY:Fixed radiology and other fixed assets from various hospitals
DESCRIPTION:&nbsp; &nbsp;\nhttps://www.industrialbid.com/Auctions/fixed-rad
 iology-and-other-fixed-assets-from-various-hospitals-11/
URL:https://www.industrialbid.com/Auctions/fixed-radiology-and-other-fixed-assets-from-various-hospitals-11/
END:VEVENT
END:VCALENDAR