BEGIN:VCALENDAR
VERSION:2.0
PRODID:-//eventon.com NONSGML v1.0//EN
CALSCALE:GREGORIAN
METHOD:PUBLISH
BEGIN:VEVENT
UID:69ec9bfb11105
DTSTAMP:20260425T104827Z
DTSTART:20260623T000000Z
DTEND:20260623T000000Z
LOCATION:View Charlotte\,  NC Details
SUMMARY:Charlotte medical and hospital equipment timed warehouse auction
DESCRIPTION:&nbsp; &nbsp;\nhttps://www.industrialbid.com/Auctions/charlotte
 -medical-and-hospital-equipment-timed-warehouse-auction-7/
URL:https://www.industrialbid.com/Auctions/charlotte-medical-and-hospital-equipment-timed-warehouse-auction-7/
END:VEVENT
END:VCALENDAR