BEGIN:VCALENDAR
VERSION:2.0
PRODID:-//eventon.com NONSGML v1.0//EN
CALSCALE:GREGORIAN
METHOD:PUBLISH
BEGIN:VEVENT
UID:69ec9b77f38b0
DTSTAMP:20260425T104615Z
DTSTART:20260421T230000Z
DTEND:20260421T230000Z
LOCATION:Beaufort\,  South Carolina\,  Arthur Avenue Elk Grove Village Illinois United States
SUMMARY:Fully Integrated Recycling & Foamed Glass Aggregate Production Facility | Pristine Condition | Commissioned in 2020
DESCRIPTION:&nbsp; &nbsp; &nbsp; Other Auction Info Phone: Buyers Premium: 
 Tax:\nhttps://www.industrialbid.com/Auctions/fully-integrated-recycling-foa
 med-glass-aggregate-production-facility-pristine-condition-commissioned-in-
 2020/
URL:https://www.industrialbid.com/Auctions/fully-integrated-recycling-foamed-glass-aggregate-production-facility-pristine-condition-commissioned-in-2020/
END:VEVENT
END:VCALENDAR