BEGIN:VCALENDAR
VERSION:2.0
PRODID:-//eventon.com NONSGML v1.0//EN
CALSCALE:GREGORIAN
METHOD:PUBLISH
BEGIN:VEVENT
UID:69e9c60c5cc0d
DTSTAMP:20260423T071108Z
DTSTART:20260430T230000Z
DTEND:20260430T230000Z
LOCATION:St. Charles\,  Missouri\,  Revere Drive Suite C Northbrook Illinois United States
SUMMARY:ReNuTeq Holdings
DESCRIPTION:Complete Cross-Laminated Timber Manufacturing Facility &nbsp; &
 nbsp; &nbsp; Other Auction Info Phone: Buyers Premium: Tax:\nhttps://www.in
 dustrialbid.com/Auctions/renuteq-holdings/
URL:https://www.industrialbid.com/Auctions/renuteq-holdings/
END:VEVENT
END:VCALENDAR