BEGIN:VCALENDAR
VERSION:2.0
PRODID:-//eventon.com NONSGML v1.0//EN
CALSCALE:GREGORIAN
METHOD:PUBLISH
BEGIN:VEVENT
UID:69e7e06db33c8
DTSTAMP:20260421T203909Z
DTSTART:20260401T230000Z
DTEND:20260401T230000Z
LOCATION:Clarksville\,  Tennessee\,  Center Drive Colab Suite Hoffman Estates Illinois United States
SUMMARY:Surplus Aluminum Die Cast Equipment From Global Automotive Supplier (Aludyne)
DESCRIPTION:Die Cast Machine\,  Heat Treat\,  Bridge Crane\,  Machine Tools
 \,  Coordinate Measuring Machines &#038; Support Equipment &nbsp; &nbsp; &n
 bsp; Other Auction Info Phone: Buyers Premium: Tax:\nhttps://www.industrial
 bid.com/Auctions/surplus-aluminum-die-cast-equipment-from-global-automotive
 -supplier-aludyne/
URL:https://www.industrialbid.com/Auctions/surplus-aluminum-die-cast-equipment-from-global-automotive-supplier-aludyne/
END:VEVENT
END:VCALENDAR