BEGIN:VCALENDAR
VERSION:2.0
PRODID:-//eventon.com NONSGML v1.0//EN
CALSCALE:GREGORIAN
METHOD:PUBLISH
BEGIN:VEVENT
UID:69e9c5ca925be
DTSTAMP:20260423T071002Z
DTSTART:20260414T235900Z
DTEND:20260414T235900Z
LOCATION:PRG - Las Vegas
SUMMARY:PRG Proshop Spring Auction - Audio / Video / Lighting / Rigging
DESCRIPTION:Professionally Maintained Equipment to be Sold of&#8230; PRG Pr
 oShop is pleased to present this tremendous offering of moving lights\,  li
 ghting consoles\,  amp racks\,  speakers\,  sound consoles\,  video project
 ion\,  truss &amp; rigging and camera related gear. This auction is present
 ed as a PRG ProShop direct offering.  A preliminary list of equipment[..]\
 nhttps://www.industrialbid.com/Auctions/prg-proshop-spring-auction-audio-vi
 deo-lighting-rigging-2/
URL:https://www.industrialbid.com/Auctions/prg-proshop-spring-auction-audio-video-lighting-rigging-2/
END:VEVENT
END:VCALENDAR