BEGIN:VCALENDAR
VERSION:2.0
PRODID:-//eventon.com NONSGML v1.0//EN
CALSCALE:GREGORIAN
METHOD:PUBLISH
BEGIN:VEVENT
UID:69e9c841b1bc4
DTSTAMP:20260423T072033Z
DTSTART:20260507T230000Z
DTEND:20260507T230000Z
LOCATION:Concord\,  Ontario\,  Concord Ontario Canada
SUMMARY:Rivera Custom Kitchens - Surplus to the Ongoing Operations
DESCRIPTION:Woodworking Equipment\,  Vehicles and Plant Support &nbsp; &nbs
 p; &nbsp; Other Auction Info Phone: Buyers Premium: Tax:\nhttps://www.indus
 trialbid.com/Auctions/rivera-custom-kitchens-surplus-to-the-ongoing-operati
 ons/
URL:https://www.industrialbid.com/Auctions/rivera-custom-kitchens-surplus-to-the-ongoing-operations/
END:VEVENT
END:VCALENDAR