BEGIN:VCALENDAR
VERSION:2.0
PRODID:-//eventon.com NONSGML v1.0//EN
CALSCALE:GREGORIAN
METHOD:PUBLISH
BEGIN:VEVENT
UID:69e9c73e1d2d1
DTSTAMP:20260423T071614Z
DTSTART:20260512T235900Z
DTEND:20260512T235900Z
LOCATION:PRG - Las Vegas
SUMMARY:PRG Proshop Spring Pro AV Auction
DESCRIPTION:**THIS SALE HAS BEEN POSTPONED&#8230; THE CATALOG HAS BEEN REPO
 STED; BIDDING WILL RESUME WHEN NEW DATES ARE FINALIZED** Professionally Mai
 ntained Equipment to be Sold of&#8230; PRG ProShop is pleased to present th
 is tremendous offering of moving lights\,  lighting consoles\,  amp racks\,
   speakers\,  audio consoles\,  video projection\,  truss &amp; rigging and
 [..]\nhttps://www.industrialbid.com/Auctions/prg-proshop-spring-pro-av-auct
 ion/
URL:https://www.industrialbid.com/Auctions/prg-proshop-spring-pro-av-auction/
END:VEVENT
END:VCALENDAR