BEGIN:VCALENDAR
VERSION:2.0
PRODID:-//eventon.com NONSGML v1.0//EN
CALSCALE:GREGORIAN
METHOD:PUBLISH
BEGIN:VEVENT
UID:69e7ab5a3e141
DTSTAMP:20260421T165242Z
DTSTART:20260416T230000Z
DTEND:20260416T230000Z
LOCATION:Fort Erie\,  Ontario\,  Center Drive Colab Suite Hoffman Estates Illinois United States
SUMMARY:Manufacturer of High-Precision CNC Machined Components for Aerospace & Defense Industries (Aerosafe Technologies)
DESCRIPTION:CNC 5-Axis Machining\,  CNC Horizontal &#038; Vertical Machinin
 g\,  CNC Turning &#038; Lathes\,  CNC Drilling &#038; Tapping\,  Toolroom\,
   Finishing\,  Quality &#038; Test Equipment &nbsp; &nbsp; &nbsp; Other Auc
 tion Info Phone: Buyers Premium: Tax:\nhttps://www.industrialbid.com/Auctio
 ns/manufacturer-of-high-precision-cnc-machined-components-for-aerospace-def
 ense-industries-aerosafe-technologies/
URL:https://www.industrialbid.com/Auctions/manufacturer-of-high-precision-cnc-machined-components-for-aerospace-defense-industries-aerosafe-technologies/
END:VEVENT
END:VCALENDAR