BEGIN:VCALENDAR
VERSION:2.0
PRODID:-//eventon.com NONSGML v1.0//EN
CALSCALE:GREGORIAN
METHOD:PUBLISH
BEGIN:VEVENT
UID:69e85d8566103
DTSTAMP:20260422T053253Z
DTSTART:20260422T230000Z
DTEND:20260422T230000Z
LOCATION:Euless\,  Texas\,  N Sylvania Ave Fort Worth Texas United States
SUMMARY:ASSETS OF HYDRAULIC MANUFACTURER
DESCRIPTION:&nbsp; &nbsp; &nbsp; Other Auction Info Phone: Buyers Premium: 
 Tax:\nhttps://www.industrialbid.com/Auctions/assets-of-hydraulic-manufactur
 er/
URL:https://www.industrialbid.com/Auctions/assets-of-hydraulic-manufacturer/
END:VEVENT
END:VCALENDAR