BEGIN:VCALENDAR
VERSION:2.0
PRODID:-//eventon.com NONSGML v1.0//EN
CALSCALE:GREGORIAN
METHOD:PUBLISH
BEGIN:VEVENT
UID:69e9cab63d93b
DTSTAMP:20260423T073102Z
DTSTART:20260416T230000Z
DTEND:20260416T230000Z
LOCATION:Chicago\,  Illinois\,  Carnegie Street Rolling Meadows Illinois United States
SUMMARY:Complete Metal Perforating & Fabrication Plant Liquidation – H & K Perforating Companies - Thursday\,  April 16 – Chicago\,  IL
DESCRIPTION:Chicago Metal Fabrication Plant Liquidation – Presses to 500T
 \,  Slitting Line\,  Shears\,  Press Brakes\,  Tool Room &#038; Plant Suppo
 rt Equipment &nbsp; &nbsp; &nbsp; Other Auction Info Phone: Buyers Premium:
  Tax:\nhttps://www.industrialbid.com/Auctions/complete-metal-perforating-fa
 brication-plant-liquidation-h-k-perforating-companies-thursday-april-16-chi
 cago-il/
URL:https://www.industrialbid.com/Auctions/complete-metal-perforating-fabrication-plant-liquidation-h-k-perforating-companies-thursday-april-16-chicago-il/
END:VEVENT
END:VCALENDAR