BEGIN:VCALENDAR
VERSION:2.0
PRODID:-//eventon.com NONSGML v1.0//EN
CALSCALE:GREGORIAN
METHOD:PUBLISH
BEGIN:VEVENT
UID:69ea375a53537
DTSTAMP:20260423T151434Z
DTSTART:20260326T230000Z
DTEND:20260326T230000Z
LOCATION:Detroit\,  Michigan\,  Laurel Park Dr Livonia Michigan United States
SUMMARY:Standard Waste Services LLC
DESCRIPTION:&nbsp; &nbsp; &nbsp; Other Auction Info Phone: Buyers Premium: 
 Tax:\nhttps://www.industrialbid.com/Auctions/standard-waste-services-llc/
URL:https://www.industrialbid.com/Auctions/standard-waste-services-llc/
END:VEVENT
END:VCALENDAR