BEGIN:VCALENDAR
VERSION:2.0
PRODID:-//eventon.com NONSGML v1.0//EN
CALSCALE:GREGORIAN
METHOD:PUBLISH
BEGIN:VEVENT
UID:69e9c9904ebac
DTSTAMP:20260423T072608Z
DTSTART:20260409T230000Z
DTEND:20260409T230000Z
LOCATION:Devine\,  Texas\,  Langham Creek Drive Houston Texas United States
SUMMARY:J&H Manufacturing Inc.
DESCRIPTION:&nbsp; &nbsp; &nbsp; Other Auction Info Phone: Buyers Premium: 
 Tax:\nhttps://www.industrialbid.com/Auctions/jh-manufacturing-inc/
URL:https://www.industrialbid.com/Auctions/jh-manufacturing-inc/
END:VEVENT
END:VCALENDAR