BEGIN:VCALENDAR
VERSION:2.0
PRODID:-//eventon.com NONSGML v1.0//EN
CALSCALE:GREGORIAN
METHOD:PUBLISH
BEGIN:VEVENT
UID:69e8b6f659506
DTSTAMP:20260422T115430Z
DTSTART:20260408T230000Z
DTEND:20260408T230000Z
LOCATION:Hanford\,  California\,  Locust Avenue Mill Valley California United States
SUMMARY:Vegetable Canning & Packaging Equipment
DESCRIPTION:On behalf of Morning Star | Former Del Monte Plant &nbsp; &nbsp
 ; &nbsp; Other Auction Info Phone: Buyers Premium: Tax:\nhttps://www.indust
 rialbid.com/Auctions/vegetable-canning-packaging-equipment/
URL:https://www.industrialbid.com/Auctions/vegetable-canning-packaging-equipment/
END:VEVENT
END:VCALENDAR