BEGIN:VCALENDAR
VERSION:2.0
PRODID:-//eventon.com NONSGML v1.0//EN
CALSCALE:GREGORIAN
METHOD:PUBLISH
BEGIN:VEVENT
UID:69eb60113f2cb
DTSTAMP:20260424T122033Z
DTSTART:20260507T230000Z
DTEND:20260507T230000Z
LOCATION:Willows\,  California\,  Locust Avenue Mill Valley California United States
SUMMARY:Complete MDF Production Facility | Day 2
DESCRIPTION:Medium Density Fiberboard | 2-Day Sale &nbsp; &nbsp; &nbsp; Oth
 er Auction Info Phone: Buyers Premium: Tax:\nhttps://www.industrialbid.com/
 Auctions/complete-mdf-production-facility-day-2/
URL:https://www.industrialbid.com/Auctions/complete-mdf-production-facility-day-2/
END:VEVENT
END:VCALENDAR