BEGIN:VCALENDAR
VERSION:2.0
PRODID:-//eventon.com NONSGML v1.0//EN
CALSCALE:GREGORIAN
METHOD:PUBLISH
BEGIN:VEVENT
UID:69e9c7f02311c
DTSTAMP:20260423T071912Z
DTSTART:20260520T230000Z
DTEND:20260520T230000Z
LOCATION:Irving\,  Texas\,  Allies Pittsburgh Pennsylvania United States
SUMMARY:Freeze Dried Candy Production & Packaging
DESCRIPTION:NOW ENDS MAY 20 &#8211; Assets Formerly of Sow Good Candy &nbsp
 ; &nbsp; &nbsp; Other Auction Info Phone: Buyers Premium: Tax:\nhttps://www
 .industrialbid.com/Auctions/freeze-dried-candy-production-packaging-2/
URL:https://www.industrialbid.com/Auctions/freeze-dried-candy-production-packaging-2/
END:VEVENT
END:VCALENDAR