BEGIN:VCALENDAR
VERSION:2.0
PRODID:-//eventon.com NONSGML v1.0//EN
CALSCALE:GREGORIAN
METHOD:PUBLISH
BEGIN:VEVENT
UID:69e85ddf3eb61
DTSTAMP:20260422T053423Z
DTSTART:20260414T230000Z
DTEND:20260414T230000Z
LOCATION:Liberty\,  Missouri\,  N Sylvania Ave Fort Worth Texas United States
SUMMARY:Shaped Steel\,  Inc
DESCRIPTION:&nbsp; &nbsp; &nbsp; Other Auction Info Phone: Buyers Premium: 
 Tax:\nhttps://www.industrialbid.com/Auctions/shaped-steel-inc/
URL:https://www.industrialbid.com/Auctions/shaped-steel-inc/
END:VEVENT
END:VCALENDAR