BEGIN:VCALENDAR
VERSION:2.0
PRODID:-//eventon.com NONSGML v1.0//EN
CALSCALE:GREGORIAN
METHOD:PUBLISH
BEGIN:VEVENT
UID:69eca1fb64e52
DTSTAMP:20260425T111403Z
DTSTART:20260407T230000Z
DTEND:20260407T230000Z
LOCATION:Multi-location\,  Floor Park Ridge Illinois United States
SUMMARY:Premium Processing Equipment Auction â€“ Canning\,  Retorts\,  Sanitary Manufacturing Machinery
DESCRIPTION:Industrialâ€‘Grade Equipment from a Facility Dedicated to Highâ
 €‘Standard Animal Nutrition and Care Products &nbsp; &nbsp; &nbsp; Other Au
 ction Info Phone: Buyers Premium: Tax:\nhttps://www.industrialbid.com/Aucti
 ons/premium-processing-equipment-auction-canning-retorts-sanitary-manufactu
 ring-machinery/
URL:https://www.industrialbid.com/Auctions/premium-processing-equipment-auction-canning-retorts-sanitary-manufacturing-machinery/
END:VEVENT
END:VCALENDAR