BEGIN:VCALENDAR
VERSION:2.0
PRODID:-//eventon.com NONSGML v1.0//EN
CALSCALE:GREGORIAN
METHOD:PUBLISH
BEGIN:VEVENT
UID:69e606374da4a
DTSTAMP:20260420T105551Z
DTSTART:20260415T230000Z
DTEND:20260415T230000Z
LOCATION:Dunfermline\,  KY11 8DY\,  Kestrel Court First Avenue Auckley Doncaster South Yorkshire United Kingdom
SUMMARY:2-Day No Reserve College Equipment Auction\,  Catering\,  Engineering\,  IT Equipment\,  Furniture\,  HVAC and Fixtures from Fife College Halbeath Campus
DESCRIPTION:Catering equipment\,  woodworking machinery\,  salon and classr
 oom furniture\,  Mac and Dell computers\,  HVAC\,  lab equipment\,  fixture
 s and more &nbsp; &nbsp; &nbsp; Other Auction Info Phone: Buyers Premium: T
 ax:\nhttps://www.industrialbid.com/Auctions/2-day-no-reserve-college-equipm
 ent-auction-catering-engineering-it-equipment-furniture-hvac-and-fixtures-f
 rom-fife-college-halbeath-campus/
URL:https://www.industrialbid.com/Auctions/2-day-no-reserve-college-equipment-auction-catering-engineering-it-equipment-furniture-hvac-and-fixtures-from-fife-college-halbeath-campus/
END:VEVENT
END:VCALENDAR