BEGIN:VCALENDAR
VERSION:2.0
PRODID:-//eventon.com NONSGML v1.0//EN
CALSCALE:GREGORIAN
METHOD:PUBLISH
BEGIN:VEVENT
UID:69e6051583076
DTSTAMP:20260420T105101Z
DTSTART:20260602T230000Z
DTEND:20260602T230000Z
LOCATION:.\,  Indiana\,  East Mclain Drive Scottsdale Arizona United States
SUMMARY:Dual Location: Indiana/Florida!!!! Surplus Citizen CNC Swiss Machines\,  Edge & Iemca Barfeeders!!!!!!!
DESCRIPTION:&nbsp; &nbsp; &nbsp; Other Auction Info Phone: Buyers Premium: 
 Tax:\nhttps://www.industrialbid.com/Auctions/dual-location-indiana-florida-
 surplus-citizen-cnc-swiss-machines-edge-iemca-barfeeders/
URL:https://www.industrialbid.com/Auctions/dual-location-indiana-florida-surplus-citizen-cnc-swiss-machines-edge-iemca-barfeeders/
END:VEVENT
END:VCALENDAR