BEGIN:VCALENDAR
VERSION:2.0
PRODID:-//eventon.com NONSGML v1.0//EN
CALSCALE:GREGORIAN
METHOD:PUBLISH
BEGIN:VEVENT
UID:69e88ad7e4159
DTSTAMP:20260422T084615Z
DTSTART:20260423T230000Z
DTEND:20260423T230000Z
LOCATION:.\,  Reading\,  RG7\,  Kestrel Court First Avenue Auckley Doncaster South Yorkshire United Kingdom
SUMMARY:MAINLY NO RESERVE Surplus Assets Direct From Mechanical Engineering Business: Lathes\,  Racking\,  Scissor Lift\,  Containers\,  Tools\,  Saws & More
DESCRIPTION:MAINLY NO RESERVE Surplus Assets Direct From Mechanical Enginee
 ring Business: Lathes\,  Racking\,  Scissor Lift\,  Containers\,  Tools\,  
 Saws &#038; More &nbsp; &nbsp; &nbsp; Other Auction Info Phone: Buyers Prem
 ium: Tax:\nhttps://www.industrialbid.com/Auctions/mainly-no-reserve-surplus
 -assets-direct-from-mechanical-engineering-business-lathes-racking-scissor-
 lift-containers-tools-saws-more/
URL:https://www.industrialbid.com/Auctions/mainly-no-reserve-surplus-assets-direct-from-mechanical-engineering-business-lathes-racking-scissor-lift-containers-tools-saws-more/
END:VEVENT
END:VCALENDAR