BEGIN:VCALENDAR
VERSION:2.0
PRODID:-//eventon.com NONSGML v1.0//EN
CALSCALE:GREGORIAN
METHOD:PUBLISH
BEGIN:VEVENT
UID:69e77a1590d8a
DTSTAMP:20260421T132229Z
DTSTART:20260416T230000Z
DTEND:20260416T230000Z
LOCATION:Cincinnati\,  Ohio\,  Dunlap Street Cincinnati Ohio United States
SUMMARY:Shader Enterprises\,  LLC
DESCRIPTION:Auto Towing &#038; Repair Shop\,  Dodge Wrecker Tow Truck\,  Ro
 ll Back Tow Trucks\,  Car Hauler Trailer\,  10K &#038; 8K Two-Post Lifts\, 
  5\, 000 Lb. Cat Forklift &#038; More &nbsp; &nbsp; &nbsp; Other Auction In
 fo Phone: Buyers Premium: Tax:\nhttps://www.industrialbid.com/Auctions/shad
 er-enterprises-llc/
URL:https://www.industrialbid.com/Auctions/shader-enterprises-llc/
END:VEVENT
END:VCALENDAR