BEGIN:VCALENDAR
VERSION:2.0
PRODID:-//eventon.com NONSGML v1.0//EN
CALSCALE:GREGORIAN
METHOD:PUBLISH
BEGIN:VEVENT
UID:69e778887193f
DTSTAMP:20260421T131552Z
DTSTART:20260505T230000Z
DTEND:20260505T230000Z
LOCATION:Elberta\,  Alabama\,  Dunlap Street Cincinnati Ohio United States
SUMMARY:Mako Forestry Corp.
DESCRIPTION:Forestry Service Co.\,  Coast Marsh Buggy\,  Fecon Foresty Mulc
 her\,  Cat &#038; Kubota Excavators\,  Deere Dozer\,  2021 Cat Skid Steer\,
   Mulching Heads &#038; More &nbsp; &nbsp; &nbsp; Other Auction Info Phone:
  Buyers Premium: Tax:\nhttps://www.industrialbid.com/Auctions/mako-forestry
 -corp/
URL:https://www.industrialbid.com/Auctions/mako-forestry-corp/
END:VEVENT
END:VCALENDAR