BEGIN:VCALENDAR
VERSION:2.0
PRODID:-//eventon.com NONSGML v1.0//EN
CALSCALE:GREGORIAN
METHOD:PUBLISH
BEGIN:VEVENT
UID:69e7798686881
DTSTAMP:20260421T132006Z
DTSTART:20260513T230000Z
DTEND:20260513T230000Z
LOCATION:Excelsior Springs\,  Missouri\,  Dunlap Street Cincinnati Ohio United States
SUMMARY:Lawn & Garden\,  LLC
DESCRIPTION:Plastic Extrusion Facility\,  (12) Davis Standard NRM Extruders
  up to 4.5&#8243;\,  Conair Vacuum Sizing Tanks\,  Pullers\,  Toolroom\,  A
 ir Compressors\,  &#038; More &nbsp; &nbsp; &nbsp; Other Auction Info Phone
 : Buyers Premium: Tax:\nhttps://www.industrialbid.com/Auctions/lawn-garden-
 llc/
URL:https://www.industrialbid.com/Auctions/lawn-garden-llc/
END:VEVENT
END:VCALENDAR