BEGIN:VCALENDAR
VERSION:2.0
PRODID:-//eventon.com NONSGML v1.0//EN
CALSCALE:GREGORIAN
METHOD:PUBLISH
BEGIN:VEVENT
UID:69e8a27f2d11f
DTSTAMP:20260422T102711Z
DTSTART:20260507T230000Z
DTEND:20260507T230000Z
LOCATION:Fort Worth\,  Texas\,  N Sylvania Ave Fort Worth Texas United States
SUMMARY:Surplus Assets from an Oilfield Manufacturer
DESCRIPTION:&nbsp; &nbsp; &nbsp; Other Auction Info Phone: Buyers Premium: 
 Tax:\nhttps://www.industrialbid.com/Auctions/surplus-assets-from-an-oilfiel
 d-manufacturer/
URL:https://www.industrialbid.com/Auctions/surplus-assets-from-an-oilfield-manufacturer/
END:VEVENT
END:VCALENDAR