BEGIN:VCALENDAR
VERSION:2.0
PRODID:-//eventon.com NONSGML v1.0//EN
CALSCALE:GREGORIAN
METHOD:PUBLISH
BEGIN:VEVENT
UID:69e777646bb4e
DTSTAMP:20260421T131100Z
DTSTART:20260507T230000Z
DTEND:20260507T230000Z
LOCATION:Xenia\,  Ohio\,  Dunlap Street Cincinnati Ohio United States
SUMMARY:Buckeye Research & Mfg
DESCRIPTION:Five-Axis CNC Precision &#038; Fabrication Shop\,  (2) Five-Axi
 s Hurco VMC&#8217;s\,  Milltronics VMC&#8217;s\,  Okuma Turning Center\,  F
 ive-Axis Omax Waterjet\,  EDM &#038; More &nbsp; &nbsp; &nbsp; Other Auctio
 n Info Phone: Buyers Premium: Tax:\nhttps://www.industrialbid.com/Auctions/
 buckeye-research-mfg/
URL:https://www.industrialbid.com/Auctions/buckeye-research-mfg/
END:VEVENT
END:VCALENDAR