BEGIN:VCALENDAR
VERSION:2.0
PRODID:-//eventon.com NONSGML v1.0//EN
CALSCALE:GREGORIAN
METHOD:PUBLISH
BEGIN:VEVENT
UID:69e88dcb6c566
DTSTAMP:20260422T085851Z
DTSTART:20260422T230000Z
DTEND:20260422T230000Z
LOCATION:Mont-Royal\,  Quebec\,  Royalmount Avenue Royal Quebec Canada
SUMMARY:Late-Model Food Processing & Packaging Equipment - Surplus from QC-based Food Processors incl. Mid-Day Squares
DESCRIPTION:STEPHAN\,  HOBART\,  INDCO\,  BANDALL\,  AXOM\,  REEPACK\,  KIL
 OTECH\,  DATAMAX\,  BETTERPACK &nbsp; &nbsp; &nbsp; Other Auction Info Phon
 e: Buyers Premium: Tax:\nhttps://www.industrialbid.com/Auctions/late-model-
 food-processing-packaging-equipment-surplus-from-qc-based-food-processors-i
 ncl-mid-day-squares/
URL:https://www.industrialbid.com/Auctions/late-model-food-processing-packaging-equipment-surplus-from-qc-based-food-processors-incl-mid-day-squares/
END:VEVENT
END:VCALENDAR