BEGIN:VCALENDAR
VERSION:2.0
PRODID:-//eventon.com NONSGML v1.0//EN
CALSCALE:GREGORIAN
METHOD:PUBLISH
BEGIN:VEVENT
UID:69e5ea4b30eb8
DTSTAMP:20260420T085643Z
DTSTART:20260428T230000Z
DTEND:20260428T230000Z
LOCATION:Dover\,  New Hampshire\,  Grand Rapids Michigan United States
SUMMARY:Salon Centric NH\,  Warehouse Equipment Auction
DESCRIPTION:&nbsp; &nbsp; &nbsp; Other Auction Info Phone: Buyers Premium: 
 Tax:\nhttps://www.industrialbid.com/Auctions/salon-centric-nh-warehouse-equ
 ipment-auction/
URL:https://www.industrialbid.com/Auctions/salon-centric-nh-warehouse-equipment-auction/
END:VEVENT
END:VCALENDAR