BEGIN:VCALENDAR
VERSION:2.0
PRODID:-//eventon.com NONSGML v1.0//EN
CALSCALE:GREGORIAN
METHOD:PUBLISH
BEGIN:VEVENT
UID:69e88dc61ebdc
DTSTAMP:20260422T085846Z
DTSTART:20260512T230000Z
DTEND:20260512T230000Z
LOCATION:Halls\,  Tennessee\,  Kraus Lane Hamilton Ohio United States
SUMMARY:Walton's Industrial Supply - MRO\,  Spares\,  & Industrial Takeouts
DESCRIPTION:MRO\,  Spares\,  &#038; Industrial Takeouts\,  Including Electr
 ic Motors\,  Pumps\,  Electrical Components\,  Bearings\,  Valves\,  Circui
 t Brakers\,  Hand Tools\,  &#038; More &nbsp; &nbsp; &nbsp; Other Auction I
 nfo Phone: Buyers Premium: Tax:\nhttps://www.industrialbid.com/Auctions/wal
 tons-industrial-supply-mro-spares-industrial-takeouts/
URL:https://www.industrialbid.com/Auctions/waltons-industrial-supply-mro-spares-industrial-takeouts/
END:VEVENT
END:VCALENDAR