BEGIN:VCALENDAR
VERSION:2.0
PRODID:-//eventon.com NONSGML v1.0//EN
CALSCALE:GREGORIAN
METHOD:PUBLISH
BEGIN:VEVENT
UID:69e8a3aa164cb
DTSTAMP:20260422T103210Z
DTSTART:20260428T230000Z
DTEND:20260428T230000Z
LOCATION:Biddeford\,  Maine\,  National Parkway Schaumburg Illinois United States
SUMMARY:Former Assets of Atlantic Sea Farms
DESCRIPTION:&nbsp; &nbsp; &nbsp; Other Auction Info Phone: Buyers Premium: 
 Tax:\nhttps://www.industrialbid.com/Auctions/former-assets-of-atlantic-sea-
 farms/
URL:https://www.industrialbid.com/Auctions/former-assets-of-atlantic-sea-farms/
END:VEVENT
END:VCALENDAR