BEGIN:VCALENDAR
VERSION:2.0
PRODID:-//eventon.com NONSGML v1.0//EN
CALSCALE:GREGORIAN
METHOD:PUBLISH
BEGIN:VEVENT
UID:69e671e47fe92
DTSTAMP:20260420T183516Z
DTSTART:20260408T230000Z
DTEND:20260408T230000Z
LOCATION:Charlotte\,  North Carolina\,  Ave Florida United States
SUMMARY:Continuing Former Asset of Bartex Recycling Corp
DESCRIPTION:&nbsp; &nbsp; &nbsp; Other Auction Info Phone: Buyers Premium: 
 Tax:\nhttps://www.industrialbid.com/Auctions/continuing-former-asset-of-bar
 tex-recycling-corp/
URL:https://www.industrialbid.com/Auctions/continuing-former-asset-of-bartex-recycling-corp/
END:VEVENT
END:VCALENDAR