BEGIN:VCALENDAR
VERSION:2.0
PRODID:-//eventon.com NONSGML v1.0//EN
CALSCALE:GREGORIAN
METHOD:PUBLISH
BEGIN:VEVENT
UID:69e606374c85f
DTSTAMP:20260420T105551Z
DTSTART:20260430T230000Z
DTEND:20260430T230000Z
LOCATION:Berkeley Heights\,  New Jersey\,  Guilford Connecticut United States
SUMMARY:Ace Lithographers of Morris County
DESCRIPTION:Plant Closure: Heidelberg Sheet &#038; Digital Presses\,  CTP\,
   Complete Bindery\,  Wire-O\,  Die Cutting\,  Plant Support\,  etc. &nbsp;
  &nbsp; &nbsp; Other Auction Info Phone: Buyers Premium: Tax:\nhttps://www.
 industrialbid.com/Auctions/ace-lithographers-of-morris-county/
URL:https://www.industrialbid.com/Auctions/ace-lithographers-of-morris-county/
END:VEVENT
END:VCALENDAR