BEGIN:VCALENDAR
VERSION:2.0
PRODID:-//eventon.com NONSGML v1.0//EN
CALSCALE:GREGORIAN
METHOD:PUBLISH
BEGIN:VEVENT
UID:69eb2932d9dde
DTSTAMP:20260424T082626Z
DTSTART:20260512T230000Z
DTEND:20260512T230000Z
LOCATION:- Georgia United States
SUMMARY:Champion Fire Security
DESCRIPTION:TRAILER: 18’ Flatbed WAREHOUSE EQUIPMENT &#038; TOOLS: Jobox 
 Tool Boxes * Ladders * Scaffolding * Adjustable Pallet Rack * Metal Adjusta
 ble Shelving * Dollies * Carts * (5) Ridgid Pipe Threaders * Portable Coole
 r FIRE PROTECTION INVENTORY: Approx. $200\, 000 Cost of Fittings * Plates *
  Adaptors * Pipe * Sprinkler[..]\nhttps://www.industrialbid.com/Auctions/ch
 ampion-fire-security/
URL:https://www.industrialbid.com/Auctions/champion-fire-security/
END:VEVENT
END:VCALENDAR