BEGIN:VCALENDAR
VERSION:2.0
PRODID:-//eventon.com NONSGML v1.0//EN
CALSCALE:GREGORIAN
METHOD:PUBLISH
BEGIN:VEVENT
UID:69e89fa3e89ae
DTSTAMP:20260422T101459Z
DTSTART:20260423T230000Z
DTEND:20260423T230000Z
LOCATION:- Georgia United States
SUMMARY:Diddi Enterprises Inc aka Caps Supper Club & Bar BK #26-31681
DESCRIPTION:KITCHEN EQUIPMENT: * Refrigerators by Beverage Air\,  Equip Che
 fs\,  Migali* Hoshizaki Ice Maker *Fryers * Hobart Centerline Mixer* Vulcan
  Gas Convection Oven * Gas Ranges\,  Refrigerated Prep Tables * Sinks * Com
 mercial Grade Pots\,  and Pans\,  Cutting Boards BAR EQUIPMENT: Unic CL1 Co
 mmercial Espresso Machine\,  Toast Point of Sale Equipment*[..]\nhttps://ww
 w.industrialbid.com/Auctions/diddi-enterprises-inc-aka-caps-supper-club-bar
 -bk-26-31681/
URL:https://www.industrialbid.com/Auctions/diddi-enterprises-inc-aka-caps-supper-club-bar-bk-26-31681/
END:VEVENT
END:VCALENDAR