BEGIN:VCALENDAR
VERSION:2.0
PRODID:-//eventon.com NONSGML v1.0//EN
CALSCALE:GREGORIAN
METHOD:PUBLISH
BEGIN:VEVENT
UID:69e89e504c95e
DTSTAMP:20260422T100920Z
DTSTART:20260519T230000Z
DTEND:20260519T230000Z
LOCATION:Galesville\,  Wisconsin\,  Pinelawn Road West Melville New York United States
SUMMARY:Surplus to Continuing Operations of GEA - World Class Vessel Fabricator of Food Systems
DESCRIPTION:&nbsp; &nbsp; &nbsp; Other Auction Info Phone: Buyers Premium: 
 Tax:\nhttps://www.industrialbid.com/Auctions/surplus-to-continuing-operatio
 ns-of-gea-world-class-vessel-fabricator-of-food-systems/
URL:https://www.industrialbid.com/Auctions/surplus-to-continuing-operations-of-gea-world-class-vessel-fabricator-of-food-systems/
END:VEVENT
END:VCALENDAR